BEGIN:VCALENDAR
VERSION:2.0
PRODID:-//School of Engineering and Applied Science Tours - ECPv6.15.0.1//NONSGML v1.0//EN
CALSCALE:GREGORIAN
METHOD:PUBLISH
X-WR-CALNAME:School of Engineering and Applied Science Tours
X-ORIGINAL-URL:https://engineering-tours.princeton.edu
X-WR-CALDESC:Events for School of Engineering and Applied Science Tours
REFRESH-INTERVAL;VALUE=DURATION:PT1H
X-Robots-Tag:noindex
X-PUBLISHED-TTL:PT1H
BEGIN:VTIMEZONE
TZID:America/New_York
BEGIN:DAYLIGHT
TZOFFSETFROM:-0500
TZOFFSETTO:-0400
TZNAME:EDT
DTSTART:20260308T070000
END:DAYLIGHT
BEGIN:STANDARD
TZOFFSETFROM:-0400
TZOFFSETTO:-0500
TZNAME:EST
DTSTART:20261101T060000
END:STANDARD
END:VTIMEZONE
BEGIN:VEVENT
DTSTART;TZID=America/New_York:20260420T121500
DTEND;TZID=America/New_York:20260420T131500
DTSTAMP:20260420T051544
CREATED:20251223T162141Z
LAST-MODIFIED:20251223T162141Z
UID:10000093-1776687300-1776690900@engineering-tours.princeton.edu
SUMMARY:In-person Guided Tour
DESCRIPTION:
URL:https://engineering-tours.princeton.edu/tour/2026-04-20/
LOCATION:School of Engineering and Applied Science\, 41 Olden St.\, Princeton\, NJ\, 08544\, United States
END:VEVENT
BEGIN:VEVENT
DTSTART;TZID=America/New_York:20260421T000000
DTEND;TZID=America/New_York:20260421T235959
DTSTAMP:20260420T051544
CREATED:20251223T162737Z
LAST-MODIFIED:20251223T162737Z
UID:10000102-1776729600-1776815999@engineering-tours.princeton.edu
SUMMARY:Campus-Wide Event - No Tours
DESCRIPTION:
URL:https://engineering-tours.princeton.edu/tour/campus-wide-event-no-tours/2026-04-21/
LOCATION:School of Engineering and Applied Science\, 41 Olden St.\, Princeton\, NJ\, 08544\, United States
END:VEVENT
BEGIN:VEVENT
DTSTART;TZID=America/New_York:20260422T121500
DTEND;TZID=America/New_York:20260422T131500
DTSTAMP:20260420T051544
CREATED:20251223T162220Z
LAST-MODIFIED:20251223T162220Z
UID:10000094-1776860100-1776863700@engineering-tours.princeton.edu
SUMMARY:In-person Guided Tour
DESCRIPTION:
URL:https://engineering-tours.princeton.edu/tour/2026-04-22/
LOCATION:School of Engineering and Applied Science\, 41 Olden St.\, Princeton\, NJ\, 08544\, United States
END:VEVENT
BEGIN:VEVENT
DTSTART;TZID=America/New_York:20260423T121500
DTEND;TZID=America/New_York:20260423T131500
DTSTAMP:20260420T051544
CREATED:20251223T164605Z
LAST-MODIFIED:20251223T164605Z
UID:10000106-1776946500-1776950100@engineering-tours.princeton.edu
SUMMARY:In-person Guided Tour
DESCRIPTION:
URL:https://engineering-tours.princeton.edu/tour/2026-04-23/
LOCATION:School of Engineering and Applied Science\, 41 Olden St.\, Princeton\, NJ\, 08544\, United States
END:VEVENT
BEGIN:VEVENT
DTSTART;TZID=America/New_York:20260424T121500
DTEND;TZID=America/New_York:20260424T131500
DTSTAMP:20260420T051544
CREATED:20251223T162324Z
LAST-MODIFIED:20251223T162324Z
UID:10000096-1777032900-1777036500@engineering-tours.princeton.edu
SUMMARY:In-person Guided Tour
DESCRIPTION:
URL:https://engineering-tours.princeton.edu/tour/2026-04-24/
LOCATION:School of Engineering and Applied Science\, 41 Olden St.\, Princeton\, NJ\, 08544\, United States
END:VEVENT
END:VCALENDAR